BEGIN:VCALENDAR
VERSION:2.0
PRODID:-//Auctions-Estates v1//EN
BEGIN:VEVENT
DTSTAMP:20260423T165703Z
STATUS:CONFIRMED
UID:32fcc1ce7640b65ecaee320773eb9b4a@Auctions-Estates
DTSTART:20240728T160000Z
DTEND:20240728T170000Z
SUMMARY:Public Auction - Steve Ritter Auctioneering
DESCRIPTION:Antique Furniture, Country Store Items, Antiques, Primitives,
  Adv. Stoneware, Glassware, Vintage Items, Jewelry & Much More!
  https://www.auctions-estates.com/calendar/ritter/64188/
LOCATION:610 E Shepherd Rd Liberty, MO
TRANSP:OPAQUE
END:VEVENT
END:VCALENDAR