BEGIN:VCALENDAR
VERSION:2.0
PRODID:-//Auctions-Estates v1//EN
BEGIN:VEVENT
DTSTAMP:20260424T183136Z
STATUS:CONFIRMED
UID:02f080fc49d2029ac2661c0d4836dbc4@Auctions-Estates
DTSTART:20250526T150000Z
DTEND:20250526T160000Z
SUMMARY:Public Auction - Thummel Real Estate & Auction LLC
DESCRIPTION:Crock Collection, Toys & Collectables, Doorstops, Baseball
  Memorabilia
  https://www.auctions-estates.com/calendar/thummel/66831/
LOCATION:900 Greeley Salina, KS
TRANSP:OPAQUE
END:VEVENT
END:VCALENDAR