BEGIN:VCALENDAR
VERSION:2.0
PRODID:-//Auctions-Estates v1//EN
BEGIN:VEVENT
DTSTAMP:20260419T133719Z
STATUS:CONFIRMED
UID:7cd498dcca7a375d35148607a5056fb0@Auctions-Estates
DTSTART:20250809T150000Z
DTEND:20250809T160000Z
SUMMARY:Public Auction - Branden Otto Auctioneering
DESCRIPTION:Skidsteer, Mower, Trailer & Related, Hot Tub / Spa, Patio &
  Outdoor, Firearms, Reloading, Fishing, Leathers, Sewing, Primitives,
  Collectibles, Barware, Furniture, Household, Restaurant Items
  https://www.auctions-estates.com/calendar/otto/67828/
LOCATION:30727 W 225th St Spring Hill, KS
TRANSP:OPAQUE
END:VEVENT
END:VCALENDAR