BEGIN:VCALENDAR
VERSION:2.0
PRODID:-//Auctions-Estates v1//EN
BEGIN:VEVENT
DTSTAMP:20260421T105334Z
STATUS:CONFIRMED
UID:3b169bcfec24b11f03f93a2255979e2c@Auctions-Estates
DTSTART:20260328T150000Z
DTEND:20260328T160000Z
SUMMARY:Farming & Equipment Auction - Crossroads Real Estate & Auction LLC
DESCRIPTION:Trucks and Equipment, Tools, Tires, Collectibles & Household
  https://www.auctions-estates.com/calendar/crossroads/69956/
LOCATION:1135 SW W Union Rd Topeka, KS
TRANSP:OPAQUE
END:VEVENT
END:VCALENDAR