BEGIN:VCALENDAR
VERSION:2.0
PRODID:-//Auctions-Estates v1//EN
BEGIN:VEVENT
DTSTAMP:20260421T094919Z
STATUS:CONFIRMED
UID:980397618863356575b6ab4437387935@Auctions-Estates
DTSTART:20260421T233000Z
DTEND:20260422T003000Z
SUMMARY:Lois Estate Auction - Premier Auction & Estate Company
DESCRIPTION:Pt Cruiser, Highly Sought - After Mackenzie - Childs Pieces,
  Including Courtly Check, Flower Market, and Seasonal Décor Collections,
  Décor, Lamps, Cast Iron Items, Precious Moments Figurines, Quilts, and A
  7.5’ Pre-Lit Christmas Tree. Pyrex, Corelle, Small Appliances, Cookware
  Galore, Sewing Machine, Vacuums, Electronics, Trailer, and More.
  https://www.auctions-estates.com/calendar/premier/70216/
LOCATION:Phillipsburg, KS
TRANSP:OPAQUE
END:VEVENT
END:VCALENDAR