BEGIN:VCALENDAR
VERSION:2.0
PRODID:-//Auctions-Estates v1//EN
BEGIN:VEVENT
DTSTAMP:20260421T115635Z
STATUS:CONFIRMED
UID:85939d3566a69dad0db7fd6981ea35d3@Auctions-Estates
DTSTART:20260418T150000Z
DTEND:20260418T160000Z
SUMMARY:Live Auction - Griffin Real Estate & Auction Service
DESCRIPTION:Equipment, Vehicles, Tools, Vehicles, Motorcycles, Scrap Iron
  https://www.auctions-estates.com/calendar/rickgriffin/70221/
LOCATION:2951 Diamond Creek Rd Burdick, KS
TRANSP:OPAQUE
END:VEVENT
END:VCALENDAR