BEGIN:VCALENDAR
VERSION:2.0
PRODID:-//Auctions-Estates v1//EN
BEGIN:VEVENT
DTSTAMP:20260421T093735Z
STATUS:CONFIRMED
UID:5c54027ba81dba6df87c67d2f677c5b8@Auctions-Estates
DTSTART:20260418T183000Z
DTEND:20260418T193000Z
SUMMARY:Online Auction - Little Bull Auction & Sales Co.
DESCRIPTION:The Great Warehouse Unburdening 2A
  https://www.auctions-estates.com/calendar/littlebull/70225/
LOCATION:Haysville, KS
TRANSP:OPAQUE
END:VEVENT
END:VCALENDAR