BEGIN:VCALENDAR
VERSION:2.0
PRODID:-//Auctions-Estates v1//EN
BEGIN:VEVENT
DTSTAMP:20260421T094224Z
STATUS:CONFIRMED
UID:d20efd12da7d5d4a4fa1fafdea1dd0c9@Auctions-Estates
DTSTART:20260418T213000Z
DTEND:20260418T223000Z
SUMMARY:Online Auction - Little Bull Auction & Sales Co.
DESCRIPTION:The Hoffhines Living Estate Auction
  https://www.auctions-estates.com/calendar/littlebull/70226/
LOCATION:Salina, KS
TRANSP:OPAQUE
END:VEVENT
END:VCALENDAR