BEGIN:VCALENDAR
VERSION:2.0
PRODID:-//Auctions-Estates v1//EN
BEGIN:VEVENT
DTSTAMP:20260421T104342Z
STATUS:CONFIRMED
UID:b9171f3e96fd233c52e16c2a47687624@Auctions-Estates
DTSTART:20260418T150000Z
DTEND:20260418T160000Z
SUMMARY:Public Auction - Edgecomb Auction Service
DESCRIPTION:Jewelry, Firearms, Collectibles, Household, Tools & Misc
  https://www.auctions-estates.com/calendar/edgecomb/70232/
LOCATION:794 E 1650 Rd Baldwin City, KS
TRANSP:OPAQUE
END:VEVENT
END:VCALENDAR