BEGIN:VCALENDAR
VERSION:2.0
PRODID:-//Auctions-Estates v1//EN
BEGIN:VEVENT
DTSTAMP:20260421T094048Z
STATUS:CONFIRMED
UID:7a5f3ac970a77ea3f9eb3a9f46b47308@Auctions-Estates
DTSTART:20260420T220000Z
DTEND:20260420T230000Z
SUMMARY:Marshall Estate Auction - Generations Real Estate & Auction
DESCRIPTION:Oak Furniture, Tables & Chairs, Living Room Furniture, Mirrors,
  Framed Art, Lighting, Native American Rugs, Office Equipment & Supplies,
  Beds, Quilts, Sewing Notions, Vintage Clothing, Jewelry & Watches, Vintage
  Military Memorabilia, Kitchenware, Appliances, Flatware, Glassware,
  Porcelain, Ceramic, Stoneware, Cast Iron, Enamelware, Brass, Pottery,
  Fenton, Uranium Glass, Roseville, Yard Art, Patio, Shop Items, Tools and
  much, MUCH more!
  https://www.auctions-estates.com/calendar/genkc/70236/
LOCATION:520 Elisa Heights Abilene, KS
TRANSP:OPAQUE
END:VEVENT
END:VCALENDAR