BEGIN:VCALENDAR
VERSION:2.0
PRODID:-//Auctions-Estates v1//EN
BEGIN:VEVENT
DTSTAMP:20260421T112416Z
STATUS:CONFIRMED
UID:8ebc2ef9f137360f8f2005d8a1a24f25@Auctions-Estates
DTSTART:20260424T150000Z
DTEND:20260424T160000Z
SUMMARY:Morstorf Estate Auction - Hancock Auction & Realty
DESCRIPTION:Hit & Miss Engines, Small Engines, Shop Items, Tractor Parts,
  Equipment, Farm Primitives, New Stuff
  https://www.auctions-estates.com/calendar/hancock/70239/
LOCATION:511 Cochran Lebo, KS
TRANSP:OPAQUE
END:VEVENT
END:VCALENDAR