BEGIN:VCALENDAR
VERSION:2.0
PRODID:-//Auctions-Estates v1//EN
BEGIN:VEVENT
DTSTAMP:20260421T093757Z
STATUS:CONFIRMED
UID:4e3b53b11f795492f4450130fdbb067e@Auctions-Estates
DTSTART:20260501T150000Z
DTEND:20260501T160000Z
SUMMARY:Estate Auction - Hancock Auction & Realty
DESCRIPTION:Selling A Great Collection of Firearms! Gun Safes, Reloading,
  Ammo, Shells, Knives, Scopes, Silver, Rolex Watch & Jewelry
  https://www.auctions-estates.com/calendar/hancock/70240/
LOCATION:2248 ZZ Road Strong City, KS
TRANSP:OPAQUE
END:VEVENT
END:VCALENDAR