BEGIN:VCALENDAR
VERSION:2.0
PRODID:-//Auctions-Estates v1//EN
BEGIN:VEVENT
DTSTAMP:20260421T094839Z
STATUS:CONFIRMED
UID:b5d8b05a9640eb810bbe267ad05a4cd7@Auctions-Estates
DTSTART:20260425T150000Z
DTEND:20260425T160000Z
SUMMARY:Public Auction - LG Auction Company
DESCRIPTION:Household, Shop & Misc, Riding Mowers, Arctic Cat 4 Wheeler
  https://www.auctions-estates.com/calendar/lg/70241/
LOCATION:108 1st St Hiawatha, KS
TRANSP:OPAQUE
END:VEVENT
END:VCALENDAR