BEGIN:VCALENDAR
VERSION:2.0
PRODID:-//Auctions-Estates v1//EN
BEGIN:VEVENT
DTSTAMP:20260421T093810Z
STATUS:CONFIRMED
UID:b49d6c34e7716083b3792a74c7c0df82@Auctions-Estates
DTSTART:20260423T223000Z
DTEND:20260423T233000Z
SUMMARY:Live Auction - Griffin Real Estate & Auction Service
DESCRIPTION:Jeep, UTV & Mower, Tools, Household & Misc
  https://www.auctions-estates.com/calendar/rickgriffin/70243/
LOCATION:301 Kaw St Cottonwood Falls, KS
TRANSP:OPAQUE
END:VEVENT
END:VCALENDAR