BEGIN:VCALENDAR
VERSION:2.0
PRODID:-//Auctions-Estates v1//EN
BEGIN:VEVENT
DTSTAMP:20260421T092012Z
STATUS:CONFIRMED
UID:4548c4bcb5e65724e480453df3b28b5c@Auctions-Estates
DTSTART:20260418T150000Z
DTEND:20260418T160000Z
SUMMARY:Public Auction - LG Auction Company
DESCRIPTION:Household & Misc Items, Shop & Misc, Arctic Cat 250 4 Wheeler,
  Country Clipper Mower
  https://www.auctions-estates.com/calendar/lg/70244/
LOCATION:201 E Iowa St Hiawatha, KS
TRANSP:OPAQUE
END:VEVENT
END:VCALENDAR