BEGIN:VCALENDAR
VERSION:2.0
PRODID:-//Auctions-Estates v1//EN
BEGIN:VEVENT
DTSTAMP:20260421T115758Z
STATUS:CONFIRMED
UID:9d597a2bc1a405ff85930751b1708eb4@Auctions-Estates
DTSTART:20260418T230000Z
DTEND:20260419T000000Z
SUMMARY:Public Auction - Bud Palmer Auction
DESCRIPTION:Silver & Gold Coins. Precious Jewelry, Taxidermy Collection,
  Antique Furniture, Rare Guns, Indian Artifacts, Old West Collection, Art,
  Bronze Statuary, Antique Slot Machines, Advertising Signs
  https://www.auctions-estates.com/calendar/palmer/70245/
LOCATION:101 W 29th St N Wichita, KS
TRANSP:OPAQUE
END:VEVENT
END:VCALENDAR