BEGIN:VCALENDAR
VERSION:2.0
PRODID:-//Auctions-Estates v1//EN
BEGIN:VEVENT
DTSTAMP:20260421T094801Z
STATUS:CONFIRMED
UID:992c72f0583a6d1200a4eec91b72a056@Auctions-Estates
DTSTART:20260420T230000Z
DTEND:20260421T000000Z
SUMMARY:April Online Consignment Auction - Daniels Auction Service
DESCRIPTION:April Online Consignment Auction
  https://www.auctions-estates.com/calendar/daniels/70248/
LOCATION:1380 Georgia Rd Humboldt, KS
TRANSP:OPAQUE
END:VEVENT
END:VCALENDAR