BEGIN:VCALENDAR
VERSION:2.0
PRODID:-//Auctions-Estates v1//EN
BEGIN:VEVENT
DTSTAMP:20260421T094744Z
STATUS:CONFIRMED
UID:ad583cdc8a56ac352150168bb687aa32@Auctions-Estates
DTSTART:20260422T233000Z
DTEND:20260423T003000Z
SUMMARY:Online Auction - Mayo Auction & Realty
DESCRIPTION:Commercial Door and Window Fabrication & Equipment Auction
  https://www.auctions-estates.com/calendar/mayo/70250/
LOCATION:Kansas City, MO
TRANSP:OPAQUE
END:VEVENT
END:VCALENDAR