BEGIN:VCALENDAR
VERSION:2.0
PRODID:-//Auctions-Estates v1//EN
BEGIN:VEVENT
DTSTAMP:20260421T105227Z
STATUS:CONFIRMED
UID:3e6507383392583c217732db53472e41@Auctions-Estates
DTSTART:20260502T150000Z
DTEND:20260502T160000Z
SUMMARY:Large Live Auction - Ashley's Auction Service
DESCRIPTION:15 Guns, Harley & Indian motorcycle Advertising signs, Heavy
  duty Duct making Metal Breaks / Sheers, 2 J.D. riding mowers, 89 Chevy
  Pickup, Ford 1710 diesel 28hp. front wheel assist tractor, Sporting goods,
  Specialty HVAC & duct working tools, Large pipe threader plus much more!
  Don't miss it!
  https://www.auctions-estates.com/calendar/ashley/70251/
LOCATION:843 Kansas Ave Phillipsburg, KS
TRANSP:OPAQUE
END:VEVENT
END:VCALENDAR