BEGIN:VCALENDAR
VERSION:2.0
PRODID:-//Auctions-Estates v1//EN
BEGIN:VEVENT
DTSTAMP:20260421T115651Z
STATUS:CONFIRMED
UID:0a4b84a4e0582fb12fec610f731bf79e@Auctions-Estates
DTSTART:20260423T123000Z
DTEND:20260423T133000Z
SUMMARY:Large Estate Tag Sale - Green Mountain Sales
DESCRIPTION:Appliances, Household, Furniture, Vintage Antiques &
  Collectibles, Yard, Garden & Patio, Mens & Womens Apparel, Tools, Quality
  Miscellaneous Items, Owner
  https://www.auctions-estates.com/calendar/greenmountain/70252/
LOCATION:920 Columbia Ave Leavenworth, KS
TRANSP:OPAQUE
END:VEVENT
END:VCALENDAR