BEGIN:VCALENDAR
VERSION:2.0
PRODID:-//Auctions-Estates v1//EN
BEGIN:VEVENT
DTSTAMP:20260421T094053Z
STATUS:CONFIRMED
UID:682a5c511519f4f6f8655544ab235b15@Auctions-Estates
DTSTART:20260424T123000Z
DTEND:20260424T133000Z
SUMMARY:Large Estate Tag Sale - Green Mountain Sales
DESCRIPTION:Appliances, Household, Furniture, Vintage Antiques &
  Collectibles, Yard, Garden & Patio, Mens & Womens Apparel, Tools, Quality
  Miscellaneous Items, Owner
  https://www.auctions-estates.com/calendar/greenmountain/70253/
LOCATION:920 Columbia Ave Leavenworth, KS
TRANSP:OPAQUE
END:VEVENT
END:VCALENDAR