BEGIN:VCALENDAR
VERSION:2.0
PRODID:-//Auctions-Estates v1//EN
BEGIN:VEVENT
DTSTAMP:20260421T115630Z
STATUS:CONFIRMED
UID:ca8c2979db8afb74f96dc1395e39ec9e@Auctions-Estates
DTSTART:20260425T123000Z
DTEND:20260425T133000Z
SUMMARY:Large Estate Tag Sale - Green Mountain Sales
DESCRIPTION:Appliances, Household, Furniture, Vintage Antiques &
  Collectibles, Yard, Garden & Patio, Mens & Womens Apparel, Tools, Quality
  Miscellaneous Items, Owner
  https://www.auctions-estates.com/calendar/greenmountain/70254/
LOCATION:920 Columbia Ave Leavenworth, KS
TRANSP:OPAQUE
END:VEVENT
END:VCALENDAR