BEGIN:VCALENDAR
VERSION:2.0
PRODID:-//Auctions-Estates v1//EN
BEGIN:VEVENT
DTSTAMP:20260421T082908Z
STATUS:CONFIRMED
UID:0e427dcb89ef55e198bb87657c0c9844@Auctions-Estates
DTSTART:20260425T140000Z
DTEND:20260425T150000Z
SUMMARY:Public Auction - SunGroup Real Estate
DESCRIPTION:Farm, Firearms, Bow, Antique, Vintage, Misc
  https://www.auctions-estates.com/calendar/sungroup/70256/
LOCATION:1758 US 160 Elk Falls, KS
TRANSP:OPAQUE
END:VEVENT
END:VCALENDAR