BEGIN:VCALENDAR
VERSION:2.0
PRODID:-//Auctions-Estates v1//EN
BEGIN:VEVENT
DTSTAMP:20260421T105822Z
STATUS:CONFIRMED
UID:55c5fc7de8e79d9d2cbd394d1cfb5e2a@Auctions-Estates
DTSTART:20260421T000000Z
DTEND:20260421T010000Z
SUMMARY:Online Auction - Everything Auction Exchange LLC
DESCRIPTION:This is a great auction, has a little bit of everything,
  vintage games, Hallmark Christmas ornaments, Railroad books, Model train
  tracks, Tools, Toy boats, take a look and start bidding!
  https://www.auctions-estates.com/calendar/everythingauctionexchange/70257/
LOCATION:Olathe, KS
TRANSP:OPAQUE
END:VEVENT
END:VCALENDAR