BEGIN:VCALENDAR
VERSION:2.0
PRODID:-//Auctions-Estates v1//EN
BEGIN:VEVENT
DTSTAMP:20260421T120803Z
STATUS:CONFIRMED
UID:08f2703d960d379572c942a07d0471b4@Auctions-Estates
DTSTART:20260606T150000Z
DTEND:20260606T160000Z
SUMMARY:Live Auction - Ken Patterson, Auctioneer
DESCRIPTION:Tools, Outdoors, Household, Primitives, Mowers, Multiple
  Vehicles including 62 Impala and 49 Hudson
  https://www.auctions-estates.com/calendar/kenpatterson/70259/
LOCATION:10283 SW White Rd Augusta, KS
TRANSP:OPAQUE
END:VEVENT
END:VCALENDAR