BEGIN:VCALENDAR
VERSION:2.0
PRODID:-//Auctions-Estates v1//EN
BEGIN:VEVENT
DTSTAMP:20260421T094250Z
STATUS:CONFIRMED
UID:f46a539f967a7977570756035f3a47fd@Auctions-Estates
DTSTART:20260419T180000Z
DTEND:20260419T190000Z
SUMMARY:Retirement Auction - Rafter 4B Auction Service
DESCRIPTION:Tractors, Truck, Farm Equipment, Miscellaneous
  https://www.auctions-estates.com/calendar/rafter4b/70261/
LOCATION:1140 NE 70th St Topeka, KS
TRANSP:OPAQUE
END:VEVENT
END:VCALENDAR