BEGIN:VCALENDAR
VERSION:2.0
PRODID:-//Auctions-Estates v1//EN
BEGIN:VEVENT
DTSTAMP:20260421T094806Z
STATUS:CONFIRMED
UID:fa16c32cde2612598ba647f6d04f0d2a@Auctions-Estates
DTSTART:20260606T143000Z
DTEND:20260606T153000Z
SUMMARY:Real Estate & Personal Property Auction - Kooser Auction Service
DESCRIPTION:3 Bedroom, 2 Bath, “A” Frame w/2 Car Garage + 24’ X 32’
  Garage / Workshop. ALL on 3.21 Acres M/L; Tractor, Motorcycle & Equip.
  Household, Tools & Misc.
  https://www.auctions-estates.com/calendar/kooser/70262/
LOCATION:7521 NW Topeka Blvd Topeka, KS
TRANSP:OPAQUE
END:VEVENT
END:VCALENDAR