BEGIN:VCALENDAR
VERSION:2.0
PRODID:-//Auctions-Estates v1//EN
BEGIN:VEVENT
DTSTAMP:20260421T115720Z
STATUS:CONFIRMED
UID:8affc00ec0aeb428f09a509d20d90c77@Auctions-Estates
DTSTART:20260427T230500Z
DTEND:20260428T000500Z
SUMMARY:Public Auction - Murphy Auction Service
DESCRIPTION:Trucks, Tools, Toys and a Tailgate - A Lifetime Collection of
  Butch Stumpf
  https://www.auctions-estates.com/calendar/murphy/70265/
LOCATION:Smithville, MO
TRANSP:OPAQUE
END:VEVENT
END:VCALENDAR