BEGIN:VCALENDAR
VERSION:2.0
PRODID:-//Auctions-Estates v1//EN
BEGIN:VEVENT
DTSTAMP:20260421T094734Z
STATUS:CONFIRMED
UID:d1c7f8a59c8c5bf64a4fb50ff992aaea@Auctions-Estates
DTSTART:20260416T140000Z
DTEND:20260416T150000Z
SUMMARY:Picker Sale - BB Realty & Auctions
DESCRIPTION:This home is packed from top to bottom with a wide variety of
  items including tools, equipment, household goods, furniture, collectibles,
  and more. This is a TRUE dig-in, treasure-hunt style sale! Not your typical
  estate sale — this is a picker’s dream. If you like digging,
  discovering, and making your own deal… this one is for you.
  https://www.auctions-estates.com/calendar/busybeever/70270/
LOCATION:Raytown, MO
TRANSP:OPAQUE
END:VEVENT
END:VCALENDAR