BEGIN:VCALENDAR
VERSION:2.0
PRODID:-//Auctions-Estates v1//EN
BEGIN:VEVENT
DTSTAMP:20260421T121809Z
STATUS:CONFIRMED
UID:ff1376052fae4fd14dd6bfaf3d567f4b@Auctions-Estates
DTSTART:20260702T230000Z
DTEND:20260703T000000Z
SUMMARY:Consignment Auction - Andrew Turner Auctions
DESCRIPTION:Weekly Auction Generally Consists of: Furniture, Antiques,
  Collectibles, Art, Artifacts, Militaria, Jewelry, Gold/Silver, Retro,
  Glass, China, Sports Memorabilia, Beer & Distillery Related, Stamps, Coins,
  Lighting, Vintage Holiday, Automobile Items, Scouting Collectibles,
  Railroad
  https://www.auctions-estates.com/calendar/kctagsale/70274/
LOCATION:1801 Guinotte Kansas City, MO
TRANSP:OPAQUE
END:VEVENT
END:VCALENDAR