BEGIN:VCALENDAR
VERSION:2.0
PRODID:-//Auctions-Estates v1//EN
BEGIN:VEVENT
DTSTAMP:20260421T091935Z
STATUS:CONFIRMED
UID:380555c9afadd4ddeae4843244cb8e23@Auctions-Estates
DTSTART:20260730T230000Z
DTEND:20260731T000000Z
SUMMARY:Consignment Auction - Andrew Turner Auctions
DESCRIPTION:Weekly Auction Generally Consists of: Furniture, Antiques,
  Collectibles, Art, Artifacts, Militaria, Jewelry, Gold/Silver, Retro,
  Glass, China, Sports Memorabilia, Beer & Distillery Related, Stamps, Coins,
  Lighting, Vintage Holiday, Automobile Items, Scouting Collectibles,
  Railroad
  https://www.auctions-estates.com/calendar/kctagsale/70278/
LOCATION:1801 Guinotte Kansas City, MO
TRANSP:OPAQUE
END:VEVENT
END:VCALENDAR