BEGIN:VCALENDAR
VERSION:2.0
PRODID:-//Auctions-Estates v1//EN
BEGIN:VEVENT
DTSTAMP:20260421T105817Z
STATUS:CONFIRMED
UID:f6808af86c0c7a857d6dac83e60fd16f@Auctions-Estates
DTSTART:20260503T150000Z
DTEND:20260503T160000Z
SUMMARY:Online Auction - Brown Auction & Real Estate
DESCRIPTION:Spring Fling 2026 - Day 2
  https://www.auctions-estates.com/calendar/brown/70281/
LOCATION:907 E Kansas Ave Greensburg, KS
TRANSP:OPAQUE
END:VEVENT
END:VCALENDAR