BEGIN:VCALENDAR
VERSION:2.0
PRODID:-//Auctions-Estates v1//EN
BEGIN:VEVENT
DTSTAMP:20260421T083058Z
STATUS:CONFIRMED
UID:14bc835b2436de1ce932a7bb47d28e9f@Auctions-Estates
DTSTART:20260428T150000Z
DTEND:20260428T160000Z
SUMMARY:Bid By Phone Land Auction - Burkhart Real Estate & Auction
DESCRIPTION:148+/- Total Acres in Kiowa County, Kansas Selling in One
  Individual Tract
  https://www.auctions-estates.com/calendar/burkhart/70282/
LOCATION:Kiowa, KS
TRANSP:OPAQUE
END:VEVENT
END:VCALENDAR