BEGIN:VCALENDAR
VERSION:2.0
PRODID:-//Auctions-Estates v1//EN
BEGIN:VEVENT
DTSTAMP:20260421T094406Z
STATUS:CONFIRMED
UID:de277f51ca2f98afde756de781a3b519@Auctions-Estates
DTSTART:20260603T230000Z
DTEND:20260604T000000Z
SUMMARY:Public Auction - Carrell Auctions
DESCRIPTION:Wednesday Night Live Auction
  https://www.auctions-estates.com/calendar/carrell/70284/
LOCATION:1722 S Harris Ave Independence, MO
TRANSP:OPAQUE
END:VEVENT
END:VCALENDAR