BEGIN:VCALENDAR
VERSION:2.0
PRODID:-//Auctions-Estates v1//EN
BEGIN:VEVENT
DTSTAMP:20260421T105314Z
STATUS:CONFIRMED
UID:90ca975005889c87a0a9c8d34acab35c@Auctions-Estates
DTSTART:20260505T150300Z
DTEND:20260505T160300Z
SUMMARY:Auto Auction - Hiatt Auction LLC
DESCRIPTION:Alandon Tow Online Auto Auction
  https://www.auctions-estates.com/calendar/hiatt/70293/
LOCATION:6224 Kansas Ave Kansas City, KS
TRANSP:OPAQUE
END:VEVENT
END:VCALENDAR