BEGIN:VCALENDAR
VERSION:2.0
PRODID:-//Auctions-Estates v1//EN
BEGIN:VEVENT
DTSTAMP:20260421T130943Z
STATUS:CONFIRMED
UID:5d6059f9baae4d59f30123a26d90adfa@Auctions-Estates
DTSTART:20260424T140000Z
DTEND:20260424T150000Z
SUMMARY:Burks Auction - Iman Auction Company
DESCRIPTION:Tractors & Tools, Antiques & Primitives,  Furniture, Hardwood,
  Appliances, & Household
  https://www.auctions-estates.com/calendar/imanauction/70294/
LOCATION:24476 Redbud Ave Saline City, MO
TRANSP:OPAQUE
END:VEVENT
END:VCALENDAR