BEGIN:VCALENDAR
VERSION:2.0
PRODID:-//Auctions-Estates v1//EN
BEGIN:VEVENT
DTSTAMP:20260421T083025Z
STATUS:CONFIRMED
UID:fbd5e6605efb14b3a4933c66dc36d32b@Auctions-Estates
DTSTART:20260419T180500Z
DTEND:20260419T190500Z
SUMMARY:Real Estate & Personal Property Auction - Legacy Auction Group
DESCRIPTION:Michael "Dean" Dachenhausen Estate | Fantastic, Historic West
  Plaza Home plus Vehicle, Antiques, Collectibles, Furniture, Art, Jewelry,
  Decorative Arts, Appliances, Home Decor, Household Goods, & Much More!
  https://www.auctions-estates.com/calendar/chapin/70298/
LOCATION:4130 Mercier St Kansas City, MO
TRANSP:OPAQUE
END:VEVENT
END:VCALENDAR