BEGIN:VCALENDAR
VERSION:2.0
PRODID:-//Auctions-Estates v1//EN
BEGIN:VEVENT
DTSTAMP:20260421T092017Z
STATUS:CONFIRMED
UID:dcf7aea646b39049219903c128673e51@Auctions-Estates
DTSTART:20260417T233000Z
DTEND:20260418T003000Z
SUMMARY:Online Auction - Little Bull Auction & Sales Co.
DESCRIPTION:Tool, Tactical, and Treasures Auction
  https://www.auctions-estates.com/calendar/littlebull/70299/
LOCATION:5554 Malpaso St Wichita, KS
TRANSP:OPAQUE
END:VEVENT
END:VCALENDAR