BEGIN:VCALENDAR
VERSION:2.0
PRODID:-//Auctions-Estates v1//EN
BEGIN:VEVENT
DTSTAMP:20260421T085551Z
STATUS:CONFIRMED
UID:a44e49e784323ab76f19b4921b782669@Auctions-Estates
DTSTART:20260423T230000Z
DTEND:20260424T000000Z
SUMMARY:Online Auction - Little Bull Auction & Sales Co.
DESCRIPTION:Chouteau Farm
  https://www.auctions-estates.com/calendar/littlebull/70300/
LOCATION:Chouteau, OK
TRANSP:OPAQUE
END:VEVENT
END:VCALENDAR