BEGIN:VCALENDAR
VERSION:2.0
PRODID:-//Auctions-Estates v1//EN
BEGIN:VEVENT
DTSTAMP:20260421T094633Z
STATUS:CONFIRMED
UID:1a261d523913286aa99a8d0f0a35a26f@Auctions-Estates
DTSTART:20260424T223000Z
DTEND:20260424T233000Z
SUMMARY:Online Auction - Little Bull Auction & Sales Co.
DESCRIPTION:From Wichita to the World The Coleman Traveler’s Auction
  https://www.auctions-estates.com/calendar/littlebull/70301/
LOCATION:Wichita, KS
TRANSP:OPAQUE
END:VEVENT
END:VCALENDAR