BEGIN:VCALENDAR
VERSION:2.0
PRODID:-//Auctions-Estates v1//EN
BEGIN:VEVENT
DTSTAMP:20260421T120009Z
STATUS:CONFIRMED
UID:a8632e2e8ed3bb37107366e91653d23b@Auctions-Estates
DTSTART:20260424T233000Z
DTEND:20260425T003000Z
SUMMARY:Online Auction - Little Bull Auction & Sales Co.
DESCRIPTION:AAA Satellite Business Liquidation. TVs, TV Mounts, Remotes,
  Fiber Optics, Cabling & Satellite Equipment in Kansas City, KS
  https://www.auctions-estates.com/calendar/littlebull/70302/
LOCATION:7164 Kaw Dr Kansas City, KS
TRANSP:OPAQUE
END:VEVENT
END:VCALENDAR