BEGIN:VCALENDAR
VERSION:2.0
PRODID:-//Auctions-Estates v1//EN
BEGIN:VEVENT
DTSTAMP:20260421T083043Z
STATUS:CONFIRMED
UID:ea91afd47c12f3dc8b6d81ec3d7750f2@Auctions-Estates
DTSTART:20260425T153000Z
DTEND:20260425T163000Z
SUMMARY:Online Auction - Little Bull Auction & Sales Co.
DESCRIPTION:"The Clockmaker" Estate
  https://www.auctions-estates.com/calendar/littlebull/70303/
LOCATION:Ness City, KS
TRANSP:OPAQUE
END:VEVENT
END:VCALENDAR