BEGIN:VCALENDAR
VERSION:2.0
PRODID:-//Auctions-Estates v1//EN
BEGIN:VEVENT
DTSTAMP:20260421T094707Z
STATUS:CONFIRMED
UID:55a7a3f5a35fff1b0e73c9406a86028b@Auctions-Estates
DTSTART:20260502T143000Z
DTEND:20260502T153000Z
SUMMARY:Public Auction - Morris Yoder Auctions
DESCRIPTION:Vehicles, Shop Tools, Household and Collectibles
  https://www.auctions-estates.com/calendar/yoder/70304/
LOCATION:8125 SW 36th St Burrton, KS
TRANSP:OPAQUE
END:VEVENT
END:VCALENDAR