BEGIN:VCALENDAR
VERSION:2.0
PRODID:-//Auctions-Estates v1//EN
BEGIN:VEVENT
DTSTAMP:20260419T140743Z
STATUS:CONFIRMED
UID:a18a8a862f15802372f90c854f332393@Auctions-Estates
DTSTART:20260422T220000Z
DTEND:20260422T230000Z
SUMMARY:Farm Retirement Auction - Theurer Auction/Realty
DESCRIPTION:Tom & Mary Morton Farm Retirement, Oxford KS
  https://www.auctions-estates.com/calendar/theurer/70307/
LOCATION:1418 E 20th St S Oxford, KS
TRANSP:OPAQUE
END:VEVENT
END:VCALENDAR