BEGIN:VCALENDAR
VERSION:2.0
PRODID:-//Auctions-Estates v1//EN
BEGIN:VEVENT
DTSTAMP:20260421T102626Z
STATUS:CONFIRMED
UID:c67d37cb65ce2b2dcdf24b6707436b2d@Auctions-Estates
DTSTART:20260507T210000Z
DTEND:20260507T220000Z
SUMMARY:Public Auction - Thummel Real Estate & Auction LLC
DESCRIPTION:Tractors, Trailers, Equipment, Skid Loader Equipment, Lumber,
  Fence
  https://www.auctions-estates.com/calendar/thummel/70308/
LOCATION:1250 Noble Rd Concordia, KS
TRANSP:OPAQUE
END:VEVENT
END:VCALENDAR