BEGIN:VCALENDAR
VERSION:2.0
PRODID:-//Auctions-Estates v1//EN
BEGIN:VEVENT
DTSTAMP:20260419T124052Z
STATUS:CONFIRMED
UID:5dd3ee3afa288bf5f5afd230f31216c5@Auctions-Estates
DTSTART:20260423T233000Z
DTEND:20260424T003000Z
SUMMARY:Online Auction - Mayo Auction & Realty
DESCRIPTION:Skid Loaders, Containers and Equipment Auction
  https://www.auctions-estates.com/calendar/mayo/70315/
LOCATION:824 N Scott Ave Belton, MO
TRANSP:OPAQUE
END:VEVENT
END:VCALENDAR