BEGIN:VCALENDAR
VERSION:2.0
PRODID:-//Auctions-Estates v1//EN
BEGIN:VEVENT
DTSTAMP:20260421T083030Z
STATUS:CONFIRMED
UID:681c68840d5da325c4733f0f1f3b3307@Auctions-Estates
DTSTART:20260427T210000Z
DTEND:20260427T220000Z
SUMMARY:Monday Night Online Auction - American Family Auctions
DESCRIPTION:This auction features: collectibles; antiques; furniture;
  tools; sports memorabilia; jewelry (gold, silver, costume); household
  items; and much much more!!! NO SHIPPING AVAILABLE
  https://www.auctions-estates.com/calendar/americanfamily/70321/
LOCATION:Topeka, KS
TRANSP:OPAQUE
END:VEVENT
END:VCALENDAR