BEGIN:VCALENDAR
VERSION:2.0
PRODID:-//Auctions-Estates v1//EN
BEGIN:VEVENT
DTSTAMP:20260421T082849Z
STATUS:CONFIRMED
UID:98b2ae3a36d3e6ac5e8e9bc71a07719e@Auctions-Estates
DTSTART:20260502T150000Z
DTEND:20260502T160000Z
SUMMARY:Antique & Collectible Auction - Olmsted Real Estate & Auctions
DESCRIPTION:Furniture — Collectibles — Glassware —Household
  https://www.auctions-estates.com/calendar/olmsted/70324/
LOCATION:811 N 15th St Marysville, KS
TRANSP:OPAQUE
END:VEVENT
END:VCALENDAR