BEGIN:VCALENDAR
VERSION:2.0
PRODID:-//Auctions-Estates v1//EN
BEGIN:VEVENT
DTSTAMP:20260421T082854Z
STATUS:CONFIRMED
UID:d74e6a01c30bacb9f41db090ebd3efb6@Auctions-Estates
DTSTART:20260606T150000Z
DTEND:20260606T160000Z
SUMMARY:Real Estate & Personal Property Auction - Olmsted Real Estate &
  Auctions
DESCRIPTION:Corvette — Household — Tools — Collectibles; 3 Bedroom, 2
  Bathroom Ranch-Style Home
  https://www.auctions-estates.com/calendar/olmsted/70326/
LOCATION:412 1/5 S Colorado Waterville, KS
TRANSP:OPAQUE
END:VEVENT
END:VCALENDAR