BEGIN:VCALENDAR
VERSION:2.0
PRODID:-//Auctions-Estates v1//EN
BEGIN:VEVENT
DTSTAMP:20260421T093745Z
STATUS:CONFIRMED
UID:781c996f63c56288d344ffda2ed5c9bc@Auctions-Estates
DTSTART:20260429T140000Z
DTEND:20260429T150000Z
SUMMARY:Semi-Truck & Trailer Auction - Bud Palmer Auction
DESCRIPTION:Semi-Tractors, Trailers, Trucks, Inventory
  https://www.auctions-estates.com/calendar/palmer/70327/
LOCATION:101 W 29th St N Wichita, KS
TRANSP:OPAQUE
END:VEVENT
END:VCALENDAR